BEGIN:VCALENDAR
VERSION:2.0
PRODID:-//Centrumbiografen - ECPv6.15.20//NONSGML v1.0//EN
CALSCALE:GREGORIAN
METHOD:PUBLISH
X-ORIGINAL-URL:https://centrumbiografensala.se
X-WR-CALDESC:Händelser för Centrumbiografen
REFRESH-INTERVAL;VALUE=DURATION:PT1H
X-Robots-Tag:noindex
X-PUBLISHED-TTL:PT1H
BEGIN:VTIMEZONE
TZID:UTC
BEGIN:STANDARD
TZOFFSETFROM:+0000
TZOFFSETTO:+0000
TZNAME:UTC
DTSTART:20230101T000000
END:STANDARD
END:VTIMEZONE
BEGIN:VTIMEZONE
TZID:Europe/Helsinki
BEGIN:DAYLIGHT
TZOFFSETFROM:+0200
TZOFFSETTO:+0300
TZNAME:EEST
DTSTART:20230326T010000
END:DAYLIGHT
BEGIN:STANDARD
TZOFFSETFROM:+0300
TZOFFSETTO:+0200
TZNAME:EET
DTSTART:20231029T010000
END:STANDARD
BEGIN:DAYLIGHT
TZOFFSETFROM:+0200
TZOFFSETTO:+0300
TZNAME:EEST
DTSTART:20240331T010000
END:DAYLIGHT
BEGIN:STANDARD
TZOFFSETFROM:+0300
TZOFFSETTO:+0200
TZNAME:EET
DTSTART:20241027T010000
END:STANDARD
BEGIN:DAYLIGHT
TZOFFSETFROM:+0200
TZOFFSETTO:+0300
TZNAME:EEST
DTSTART:20250330T010000
END:DAYLIGHT
BEGIN:STANDARD
TZOFFSETFROM:+0300
TZOFFSETTO:+0200
TZNAME:EET
DTSTART:20251026T010000
END:STANDARD
END:VTIMEZONE
BEGIN:VEVENT
DTSTART;TZID=UTC:20260214T183000
DTEND;TZID=UTC:20260214T203000
DTSTAMP:20260420T085213
CREATED:20251114T114719Z
LAST-MODIFIED:20260119T195858Z
UID:1942-1771093800-1771101000@centrumbiografensala.se
SUMMARY:Volym möter Jens Hult
DESCRIPTION:Välkommen tillbaka\, Jens Hult!Den 14 februari bjuder vi in till ”Kärlek på svensktoppen” – en kväll där Jens Hult & Vimlet fyller Centrumscenen med musik och värme.Jens var med redan vid premiären av Volym\, och vi är så glada att få välkomna honom tillbaka!Med sin varma och personliga röst skapar han musik som berör – om kärlek\, längtan\, hopp och sårbarhet. Genombrottslåten Precis som du vill har streamats över 17 miljoner gånger\, och Jens fortsätter att beröra lyssnare med sin ärliga och känslofyllda musik. \n\n\n\nÖvrig information. Insläpp: Klockan 18:30. Kiosk: finns tillgängligt innan konsertstart Konsertens längd: Cirka 75-90 min\, sluttid kan inte garanteras. Paus: Nej  Åldersgräns: Från 13 år med målsmans sällskap Garderob: Självbetjäning  \n\n\n\n*Biljetter återköps ej \n\n\n\nKÖP BILJETT
URL:https://centrumbiografensala.se/evenemang/volym-moter-jens-hulr/
LOCATION:Centrumbiografen i Sala\, Sala\, Sweden
ATTACH;FMTTYPE=image/png:https://centrumbiografensala.se/wp-content/uploads/2025/11/Jens-Hult-Sociala-medier-1.png
END:VEVENT
BEGIN:VEVENT
DTSTART;TZID=UTC:20250920T190000
DTEND;TZID=UTC:20250920T190000
DTSTAMP:20260420T085213
CREATED:20250814T090929Z
LAST-MODIFIED:20250814T091347Z
UID:1935-1758394800-1758394800@centrumbiografensala.se
SUMMARY:VOLYM MÖTER VIKTORIA TOLSTOY
DESCRIPTION:En av Sveriges mest älskade jazzsångerskor gästar Volym!Den 20 september välkomnar vi Viktoria Tolstoy till Centrumscenen. Med sin unika röst och personliga tolkningar kommer hon\, tillsammans med Vimlet\, ta med oss med på en musikalisk resa fylld av känsla\, rytm och värme. \n\n\n\nViktoria har släppt hyllade album på legendariska Blue Note Records och samarbetat med några av jazzvärldens största namn. \n\n\n\nDet här blir en kväll där musiken får hjärtat att sväva.  \n\n\n\nÖvrig information. Insläpp: Klockan 18:30. Konsertens längd: Cirka 90 min\, sluttid kan inte garanteras. Paus: Nej  Åldersgräns: Från 13 år med målsmans sällskap Garderob: Självbetjäning  \n\n\n\n*Biljetter återköps ej \n\n\n\nKÖP BILJETT
URL:https://centrumbiografensala.se/evenemang/volym-moter-viktoria-tolstoy/
LOCATION:Centrumbiografen i Sala\, Sala\, Sweden
CATEGORIES:Volym
ATTACH;FMTTYPE=image/png:https://centrumbiografensala.se/wp-content/uploads/2025/08/VIKTORIA-TOLSTOY-SOCIALA-MEDIER-scaled.png
END:VEVENT
BEGIN:VEVENT
DTSTART;TZID=UTC:20250413T013000
DTEND;TZID=UTC:20250413T020000
DTSTAMP:20260420T085213
CREATED:20241127T181221Z
LAST-MODIFIED:20241127T182618Z
UID:1871-1744507800-1744509600@centrumbiografensala.se
SUMMARY:Pappa Kapsyl
DESCRIPTION:Hela familjens favorit Pappa Kapsyl intar Centrumbiografen. Med en kavalkad av sina mest populära dinosaurielåtar bjuder Pappa Kapsyl på en fartfylld show där rockiga köttätarlåtar blandas med stillsamma långhalsballader\, allsång och roliga upptåg med publiken. \n\n\n\nPappa Kapsyl gör musik\, böcker\, videor och föreställningar om dinosaurier för barn och deras föräldrar! Med 17 miljoner streams på Spotify och mer än tusen konserter bakom sig har Pappa Kapsyl etablerat sig som en av Sveriges mest efterfrågade familjeunderhållare. \n\n\n\n”Superkul för både barn och vuxna!””Familjens största idol. Fantastisk show och musik.””Perfekt mix mellan att vara spännande\, läskigt och roligt.” \n\n\n\nLäs mer på https://www.pappakapsyl.se/ \n\n\n\nPlats: Centrumbiografen i SalaNär: kl. 11:00 och kl. 14:00. Längd: ca 45 minDörrarna öppnas 30 min innan konsertstart. \n\n\n\nEfter konserten har alla besökare möjlighet att träffa Pappa Kapsyl för fotografering och signering. \n\n\n\nKÖP BILJETT
URL:https://centrumbiografensala.se/evenemang/pappa-kapsyl/
LOCATION:Centrumbiografen i Sala\, Sala\, Sweden
CATEGORIES:Volym
ATTACH;FMTTYPE=image/jpeg:https://centrumbiografensala.se/wp-content/uploads/2024/11/Pappa-Kapsyl-sociala-medier-scaled.jpg
END:VEVENT
BEGIN:VEVENT
DTSTART;TZID=UTC:20250314T190000
DTEND;TZID=UTC:20250314T190000
DTSTAMP:20260420T085214
CREATED:20250213T155039Z
LAST-MODIFIED:20250213T155429Z
UID:1905-1741978800-1741978800@centrumbiografensala.se
SUMMARY:HANNES AITMAN – WEAK POINT TOUR '25
DESCRIPTION:Med sin djupa röst och storytelling-texter bortom sin unga ålder frammanar Hannes Aitman ett tidlöst sound med briljant gitarrspel som redan hyllats av både svensk och internationell press. Efter succén med debutalbumet ’Weak Point’\, som streamats över 5 miljoner gånger och nått topplistor för både vinyl och digitala album\, är han en av Sveriges mest lovande musikexporter. CMA (Country Music Association) har lyft fram Hannes i sina spellistor och som liveartist i deras koncept ’Introducing Nashville’. \n\n\n\nKöp biljetter
URL:https://centrumbiografensala.se/evenemang/hannes-aitman-weak-point-tour-25/
LOCATION:Centrumbiografen i Sala\, Sala\, Sweden
ATTACH;FMTTYPE=image/jpeg:https://centrumbiografensala.se/wp-content/uploads/2025/02/Stor-bild.jpg
END:VEVENT
BEGIN:VEVENT
DTSTART;TZID=UTC:20250207T190000
DTEND;TZID=UTC:20250207T190000
DTSTAMP:20260420T085214
CREATED:20241208T175253Z
LAST-MODIFIED:20241208T175628Z
UID:1889-1738954800-1738954800@centrumbiografensala.se
SUMMARY:Caspar Camitz
DESCRIPTION:Välkomna till Volym 7 februari 2025. \n\n\n\nKom och upplev denna kväll där husbandet Vimlet gästas av ingen mindre än Caspar Camitz\, med sin unika röst lämnar han ingen oberörd. Kvällens tema är soul och ni kan förvänta er en musikalisk upplevelse utöver det vanliga. \n\n\n\nGör oss sällskap i salongen på Salas anrika biograf för en oförglömlig kväll där Caspar tillsammans med Vimlet kommer att skapa en atmosfär som dröjer sig kvar långt efter att de sista tonerna klingat ut.  \n\n\n\nInsläpp kl. 18:30\, garderob finns. Konserten startar kl. 19:00Längd ca 90 minuter\, ej paus Åldersgräns: 13 år med målsmans sällskap  \n\n\n\n \n\n\n\nKÖP BILJETT
URL:https://centrumbiografensala.se/evenemang/caspar-camitz/
LOCATION:Centrumbiografen i Sala\, Sala\, Sweden
CATEGORIES:Volym
ATTACH;FMTTYPE=image/png:https://centrumbiografensala.se/wp-content/uploads/2024/12/IMG_5698-1.png
END:VEVENT
BEGIN:VEVENT
DTSTART;TZID=UTC:20241123T050000
DTEND;TZID=UTC:20241123T170000
DTSTAMP:20260420T085214
CREATED:20240905T190322Z
LAST-MODIFIED:20240905T190656Z
UID:1827-1732338000-1732381200@centrumbiografensala.se
SUMMARY:Det sjunde inseglet enligt 123 Schtunk
DESCRIPTION:”Är du beredd?” ”Min kropp är rädd\, inte jag själv.” \n\n\n\nSchtunkarna är beredda\, men inte rädda! Äntligen ger sig 123 Schtunk in i Bergman-land! Och vilken berättelse kan passa bättre än Det sjunde inseglet?Här finns allt clownerna kan begära; ett teatersällskap på turné i pestens tid\, kärlek\, hopp\, tro och tvivel. Och inte minst ett antal klassiska repliker att vända och vrida på! Naturligtvis ramas allt in av 123 Schtunks nyskrivna musik och som alltid utlovas massor av skratt! Helt enkelt – 123 Schtunk i högform! Varmt välkomna! \n\n\n\nMedverkande \n\n\n\nBortas Josefine AnderssonLasse BeischerDick Karlsson \n\n\n\nKonstnärligt team \n\n\n\nManus: Ingmar BergmanManusrättigheter: Ingmar Bergman FoundationBearbetning: 123 Schtunk och Lena FridellMusik och sångtexter: Dick KarlssonScenografi och kostym: 123 Schtunk och Richard AnderssonKoreografi: 123 Schtunk och My JosefssonRegi: 123 Schtunk \n\n\n\nProducent \n\n\n\n123 Schtunk \n\n\n\nköp biljett
URL:https://centrumbiografensala.se/evenemang/1827/
LOCATION:Centrumbiografen i Sala\, Sala\, Sweden
ATTACH;FMTTYPE=image/png:https://centrumbiografensala.se/wp-content/uploads/2024/09/Namnlos-design-4.png
ORGANIZER;CN="Sala Teaterf%C3%B6rening":MAILTO:sala.tf@riksteatern.se
END:VEVENT
BEGIN:VEVENT
DTSTART;TZID=UTC:20241114T183000
DTEND;TZID=UTC:20241114T203000
DTSTAMP:20260420T085214
CREATED:20241002T122058Z
LAST-MODIFIED:20241002T122528Z
UID:1857-1731609000-1731616200@centrumbiografensala.se
SUMMARY:Vintagemannen tillsammans med F.D. Fristedts
DESCRIPTION:Torsdagen den 14 november klockan 19.00 välkomnar vi dig till Centrumbiografen i Sala\, en kväll fylld av inspiration och stilsäkra tips.Upplev en kväll där Vintagemannen inspirerar och stylar med noggrant utvalda plagg från före detta Fristedts Herrekipering.  \n\n\n\nTa del av handfasta tips i hur man går från normalsvensk man till en äkta Vintageman.Denna kväll har du chansen att vinna en hel ekipering från f.d. Fristedts Herrekipering. Du väljer fritt i butiken med stylinghjälp på plats av Vintagemannen. (vissa restriktioner finns)  \n\n\n\nGåva från f.d. Fristedts Herrekipering utlovas till samtliga biljettköpare.Vem är då Vintagemannen? \n\n\n\nVintagemannen blev snabbt ett fenomen när upphovsmannen Ingemar Albertsson upptäckte kvaliteten i äldre second handkläder. Med lust och fåfänga som ledstjärnor guidar Vintagemannen stilsäkert genom 1900-talets herrmode. För dig som vill va’- eller ha- en riktig Vintageman. Före detta Fristedts Herrekipering \n\n\n\nFristedts Herrekipering har djupa rötter i Sala\, som bevarar ett arv av svenskt herrmode och kvalitet\, och är ett betydelsefullt inslag i Salas kulturhistoria. \n\n\n\nHerrekiperingen öppnades år 1935 av Knut Fristedt och har sedan dess haft ett imponerande lager av äldre\, högkvalitativa plagg\, vilket har bevarat dess unika karaktär.  \n\n\n\nI ett decennium har dörren till den anrika klädbutiken varit låst.Törnlinds Fastigheter förvärvade fastigheten sommaren 2021. Butiken har upphört men vi ser fram emot att fortsätta vårt långsiktiga arbete där vi varsamt kommer att förvalta denna kulturhistoriska skatt.Insläpp kl. 18:30\, kiosk finns. Föreställningen börjar kl. 19:00 Längd ca 90 min Möjlighet att träffa Vintagemannen efter föreställningen.  \n\n\n\nköp biljett
URL:https://centrumbiografensala.se/evenemang/1857/
LOCATION:Centrumbiografen i Sala\, Sala\, Sweden
ATTACH;FMTTYPE=image/png:https://centrumbiografensala.se/wp-content/uploads/2024/10/VIntagemannen-instagram-flode.png
END:VEVENT
BEGIN:VEVENT
DTSTART;TZID=Europe/Helsinki:20240920T190000
DTEND;TZID=Europe/Helsinki:20240920T190000
DTSTAMP:20260420T085214
CREATED:20240904T170204Z
LAST-MODIFIED:20240905T175913Z
UID:1673-1726858800-1726858800@centrumbiografensala.se
SUMMARY:SONJA ALDÉN & VIMLET
DESCRIPTION:Med sin klara och rena röst\, älskade melodier och livsnära texter\, har Sonja slagit rot i otaliga hjärtan och knutit starka band till sin publik. Tillsammans med husbandet Vimlet gästar hon Centrumscenen i Sala och bjuder in till en oförglömlig kväll. \n\n\n\nKÖP BILJETT
URL:https://centrumbiografensala.se/evenemang/sonja-alden-vimlet/
LOCATION:Centrumbiografen i Sala\, Sala\, Sweden
CATEGORIES:Volym
ATTACH;FMTTYPE=image/png:https://centrumbiografensala.se/wp-content/uploads/2024/07/sonja-alden-volym-sociala-medier.png
END:VEVENT
END:VCALENDAR